Workbook
Name _Toc101354855: 'Template Cover'!$A$28
Name Anzahl_Prüfer: '[1]gage_R&R'!$C$14
Name Anzahl_Teile: '[1]gage_R&R'!$C$13
Name AV: '[1]gage_R&R'!$J$42
Name BuiltIn_AutoFiler___2: #REF!
Name BuiltIn_AutoFilter___1: #REF!
Name BuiltIn_AutoFilter___1___0: #REF!
Name BuiltIn_AutoFilter___1___0___0: #REF!
Name BuiltIn_AutoFilter___1___1: #REF!
Name BuiltIn_AutoFilter___1_1: #REF!
Name BuiltIn_AutoFilter___1_1___0: #REF!
Name BuiltIn_AutoFilter___1_1___0___0: #REF!
Name BuiltIn_AutoFilter___1_10: '[2]nächsteVersion 12.07.03'!$A$1:$K$58
Name BuiltIn_AutoFilter___1_11: '[2]nächsteVersion 12.07.03'!$A$1:$K$58
Name BuiltIn_AutoFilter___1_2: #REF!
Name BuiltIn_AutoFilter___1_2___0: #REF!
Name BuiltIn_AutoFilter___1_3: #REF!
Name BuiltIn_AutoFilter___1_3___0: #REF!
Name BuiltIn_AutoFilter___1_4: #REF!
Name BuiltIn_AutoFilter___1_4___0: #REF!
Name BuiltIn_AutoFilter___1_5: #REF!
Name BuiltIn_AutoFilter___1_5___0: #REF!
Name BuiltIn_AutoFilter___1_6: #REF!
Name BuiltIn_AutoFilter___1_6___0: #REF!
Name BuiltIn_AutoFilter___1_7: #REF!
Name BuiltIn_AutoFilter___1_7___0: #REF!
Name BuiltIn_AutoFilter___1_8: '[2]nächsteVersion 12.07.03'!$A$1:$K$58
Name BuiltIn_AutoFilter___1_9: '[2]nächsteVersion 12.07.03'!$A$1:$K$58
Name Calc_sens2: [3]!Calc_sens2
Name Clear_sens2: [3]!Clear_sens2
Name Cpk_LCLX: #REF!:OFFSET(#REF!,COUNTA(#REF!)-1,0)
Name Cpk_Mean: #REF!:OFFSET(#REF!,COUNTA(#REF!)-1,0)
Name Cpk_NumDataPoints: #REF!:OFFSET(#REF!,COUNTA(#REF!)-1,0)
Name Cpk_RangeAverage: #REF!:OFFSET(#REF!,COUNTA(#REF!)-1,0)
Name Cpk_TestValue: #REF!:OFFSET(#REF!,COUNTA(#REF!)-1,0)
Name Cpk_UCLR: #REF!:OFFSET(#REF!,COUNTA(#REF!)-1,0)
Name Cpk_UCLX: #REF!:OFFSET(#REF!,COUNTA(#REF!)-1,0)
Name Cpk_XmR: #REF!:OFFSET(#REF!,COUNTA(#REF!)-1,0)
Name DPMO: #REF!
Name DPMO2: #REF!
Name DPMO3: #REF!
Name drop_down_reason_for_sampling: '[4]PPAP Submission Data'!#REF!
Name EV: '[1]gage_R&R'!$J$40
Name K2_Wert: [1]Sverweis!$B$13
Name K3_Wert: [1]Sverweis!#REF!
Name K4_Wert: [1]Sverweis!$F$13
Name Mittelwert: #REF!
Name OLE_LINK1: #REF!
Name R_quer_quer: [1]Berechnung!$B$1
Name R_R: '[1]gage_R&R'!$J$44
Name Shift: #REF!
Name Sigma: #REF!
Name Sigma2: #REF!
Name Sigma3: #REF!
Name SSSS: #REF!
Name Standardabweichung: #REF!
Name Teile99: [5]Listen!$D$2:$D$101
Name Text37: Deutsch!$A$89
Name Text37: English!$A$90
Name Text37: 'Feasibility Commitment'!$A$90

Sheet Template Cover
A1: Smart Infrastructure - Buildings | F1: Please select | G1: Please select
F2: CRM | G2: Standard
A3: SI B PRO SCM QM SQM | F3: PLM | G3: Instruction
A4: Document Type | B4: 4 | F4: PM@Siemens | G4: Miscellaneous Templates
A5: Document-Number | B5: 152_MI_TMPL_2461 | F5: SCM | G5: Miscellaneous Info
A6: Version | B6: 2 | F6: Service@Siemens
A7: Topic | B7: Feasibility Commitment for Supplier | F7: Enterprise Governance
A8: Document Title | B8: Feasibility Commitment for Supplier | F8: Enterprise Strategy
A9: Summary | B9: Feasibility Commitment | F9: Financial Planning & Controlling
F10: Legal & Compliance
A11: Governace responsibility
A12: Name of department (org.code) | B12: SI B PRO SCM QM SQM
A14: Specialist responsible | F14: Business Process Management
A15: N N, Department (Org Code) | B15: Martin Oeggerli, SI B PRO SCM QM SQM | F15: Communications
A16: E-Mail | B16: martin.oeggerli@siemens.com | F16: Export Control and Customs
F17: Financial Management / Accounting
A18: Scope | F18: Human Resources
A19: Scope (Org Unit): | B19: SI B PRO | F19: Intellectual Property Management
A20: Location Code | B20: World | F20: IT Management & InfoSec
F21: Procurement
A22: Process category | B22: 22 | F22: Quality Management
A23: Distribution | F23: Technical Regulation & Standardization
A24: Publishing date | B24: Zug, January 30, 2023
A25: Document confidentiality level | B25: Unrestricted
A28: Change history
A29: Version | B29: Date | C29: Change comment | D29: Approval
A30: 1 | B30: January 30, 2023 | C30: Replaces Document 152_IN_2293, Version: 7.0 in Cosmos | D30: Thorsten Bauer, SI BP QM SQM
A31: 2 | B31: December 17, 2024 | C31: new setup of document incl. additional requirements and some minor corrections and Hyperlinks | D31: Thorsten Bauer, SI B PRO SCM QM SQM
A33: Next Review | B33: December 17, 2027
A41: Template as of October 1, 2024

Sheet Feasibility Commitment
A3: =IF($D$5="D",Deutsch!F1,English!F1) -> Herstellbarkeitsbewertung
A5: Language D=Deutsch E=English | D5: d | E5: =IF($D$5="D",Deutsch!E3,English!E3) -> press F9 if language does not change
A7: =IF($D$5="D",Deutsch!A6,English!A6) -> Lieferant: | F7: =IF($D$5="D",Deutsch!F6,English!F6) -> Artikel Nummer
A9: =IF($D$5="D",Deutsch!A8,English!A8) -> Artikel Name: | F9: =IF($D$5="D",Deutsch!F8,English!F8) -> Artikel Rev. State:
A11: =IF($D$5="D",Deutsch!A10,English!A10) -> Projekt: | F11: =IF($D$5="D",Deutsch!F10,English!F10) -> Initiales Supplier Data (.zip):
F12: =IF($D$5="D",Deutsch!F11,English!F11) -> (komplett inkl. Datum/Zeit)
A15: =IF($D$5="D",Deutsch!A15,English!A15) -> Das Feasibility Commitment ist ein Dokument, das dem Lieferanten zusammen mit der Angebotsanfrage (RfQ) zugesandt wird. Ziel ist es, dem Lieferanten die Möglichkeit zu geben, Fragen zu den übermittelten Unterlagen zu stellen. Auf der Grundlage des Inhalts der vom Lieferanten zurückgesandten Technischen Prüfung entscheidet SQM (oder PE), ob ein Treffen zur technischen Prüfung mit dem Lieferanten und den technischen Funktionen erforderlich ist.
B17: =IF($D$5="D",Deutsch!B17,English!B17) -> Konzeptpunkte | H17: =IF($D$5="D",Deutsch!H17,English!H17) -> Resultate / Hinweise / Kommentare
A18: =IF($D$5="D",Deutsch!A18,English!A18) -> Anwendungstechnik und Design | H18: =IF($D$5="D",Deutsch!H18,English!H18) -> JA | I18: =IF($D$5="D",Deutsch!I18,English!I18) -> NEIN | J18: =IF($D$5="D",Deutsch!J18,English!J18) -> N/A | K18: =IF($D$5="D",Deutsch!K18,English!K18) -> Wenn NEIN oder N/A, bitte spezifizieren
A19: =IF($D$5="D",Deutsch!A19,English!A19) -> 1 | B19: =IF($D$5="D",Deutsch!B19,English!B19) -> Sind die PPAP - Anforderungen (Workbook) inkl. Supplier Data Package (.zip) bekannt gegeben worden, verstanden, akzeptiert und in das Angebot eingeflossen? | H19: FALSE | I19: FALSE
A20: =IF($D$5="D",Deutsch!A20,English!A20) -> 2 | B20: =IF($D$5="D",Deutsch!B20,English!B20) -> Wurden alle Anforderungen / Spezifikationen berücksichtigt? (z.B.: Qualitäts Sicherungs Vereinbarung (GQA oder QSV), Logistik - Kennzeichnungsanforderungen, QRS, Siemens Normen) | H20: FALSE | I20: FALSE
A21: =IF($D$5="D",Deutsch!A21,English!A21) -> 3 | B21: =IF($D$5="D",Deutsch!B21,English!B21) -> Ist die Herstellbarkeit des Produkts / der Komponente unter Berücksichtigung der voraussichtlichen Mengen sichergestellt für:
A22: =IF($D$5="D",Deutsch!A22,English!A22) -> 3.1 | B22: =IF($D$5="D",Deutsch!B22,English!B22) -> - alle geforderten Masse auf den Spezifikations-Dokumenten? | H22: FALSE | I22: FALSE
A23: =IF($D$5="D",Deutsch!A23,English!A23) -> 3.2 | B23: =IF($D$5="D",Deutsch!B23,English!B23) -> - alle geforderten Toleranzen? (inkl. aller Form- und Lagetoleranzen) | H23: FALSE | I23: FALSE
A24: =IF($D$5="D",Deutsch!A24,English!A24) -> 3.3 | B24: =IF($D$5="D",Deutsch!B24,English!B24) -> - alle kritischen und wichtigen Merkmale? | H24: FALSE | I24: FALSE | J24: FALSE
A25: =IF($D$5="D",Deutsch!A25,English!A25) -> 3.4 | B25: =IF($D$5="D",Deutsch!B25,English!B25) -> - alle weiteren Anforderungen nach Spezifikations-Dokumenten (Lieferspezifikationen, Produktanforderungen, Produkteigenschaften, Verpackung, Beschriftung, Zusatztext auf Zeichnungen, …)? | H25: FALSE | I25: FALSE
A26: =IF($D$5="D",Deutsch!A26,English!A26) -> 3.5 | B26: =IF($D$5="D",Deutsch!B26,English!B26) -> - die Deklarationen der Verwendung sowie der Nichtverwendung von eingeschränkten und deklarationspflichtigen Stoffen für alle Teile und Produkte gemäss der zum Zeitpunkt der Bestellung gültigen sogenannten "Liste deklarationspflichtiger Stoffe". Die Lieferanten müssen die Deklaration über BOMcheck vornehmen, spätestens zum Zeitpunkt der ersten Lieferung der Produkte. | H26: FALSE | I26: FALSE
B27: =IF($D$5="D",Deutsch!B27,English!B27) -> Link zum one pager BOMcheck Deklaration
B28: =IF($D$5="D",Deutsch!B28,English!B28) -> Link zur LoDS
A29: =IF($D$5="D",Deutsch!A29,English!A29) -> 4 | B29: =IF($D$5="D",Deutsch!B29,English!B29) -> Wird der Projektzeitplan (gemäss Anfrage) eingehalten und wird ein schlüssiger Planungsprozess für die Produktrealisierung einschliesslich der notwendigen Qualitätsplanung angewendet? (Bitte ab Zeile 65 ausfüllen) | H29: FALSE | I29: FALSE
A30: =IF($D$5="D",Deutsch!A30,English!A30) -> 5 | B30: =IF($D$5="D",Deutsch!B30,English!B30) -> Stellt das geplante Verpackungsdesign sicher, dass das Produkt / Komponente verpackt und transportiert werden kann, ohne dass Schäden beim Transport, Stapeln und Lagern entstehen? | H30: FALSE | I30: FALSE
A31: =IF($D$5="D",Deutsch!A31,English!A31) -> 6 | B31: =IF($D$5="D",Deutsch!B31,English!B31) -> Sind die zu erbringenden Leistungen, Termine und Funktionstests für die Software definiert? | H31: FALSE | I31: FALSE | J31: FALSE
A32: =IF($D$5="D",Deutsch!A32,English!A32) -> 7 | B32: =IF($D$5="D",Deutsch!B32,English!B32) -> Wird eine Designverifikation/ -validierungen durchgeführt? | H32: FALSE | I32: FALSE | J32: FALSE
A33: =IF($D$5="D",Deutsch!A33,English!A33) -> 8 | B33: =IF($D$5="D",Deutsch!B33,English!B33) -> Wird eine Risikobewertung für das Produkt / Komponente (z.B.: DFMEA) erstellt? | H33: FALSE | I33: FALSE | J33: FALSE
A34: =IF($D$5="D",Deutsch!A34,English!A34) -> Lieferanten Expertise | H34: =IF($D$5="D",Deutsch!H34,English!H34) -> JA | I34: =IF($D$5="D",Deutsch!I34,English!I34) -> NEIN | J34: =IF($D$5="D",Deutsch!J34,English!J34) -> N/A | K34: =IF($D$5="D",Deutsch!K34,English!K34) -> Wenn NEIN oder N/A, bitte spezifizieren
A35: =IF($D$5="D",Deutsch!A35,English!A35) -> 9 | B35: =IF($D$5="D",Deutsch!B35,English!B35) -> Werden oder wurden beim Lieferanten ähnliche Produkte / Komponenten gefertigt? Ist die Fertigung / Herstellung der geforderten Spezifikation ein etablierter Prozess? | H35: FALSE | I35: FALSE
A36: =IF($D$5="D",Deutsch!A36,English!A36) -> 10 | B36: =IF($D$5="D",Deutsch!B36,English!B36) -> Sehen Sie Möglichkeiten zur Kostensenkung und/oder Qualitätsverbesserung, z. B. bei Merkmalen, Materialien, Prozessen, Materialhandhabung? | H36: FALSE | I36: FALSE
A37: =IF($D$5="D",Deutsch!A37,English!A37) -> 11 | B37: =IF($D$5="D",Deutsch!B37,English!B37) -> Planen Sie Loops für die Werkzeugherstellung? Wenn Ja, wie lange dauert es insgesamt, bis die Produktion starten kann? | H37: FALSE | I37: FALSE | J37: FALSE
A38: =IF($D$5="D",Deutsch!A38,English!A38) -> 12 | B38: =IF($D$5="D",Deutsch!B38,English!B38) -> Planen Sie, einzelne Prozessschritte an Unterauftragnehmer zu vergeben? Wenn "JA", wie viele und welche? | H38: FALSE | I38: FALSE
A39: =IF($D$5="D",Deutsch!A39,English!A39) -> Beschaffung | H39: =IF($D$5="D",Deutsch!H39,English!H39) -> JA | I39: =IF($D$5="D",Deutsch!I39,English!I39) -> NEIN | K39: =IF($D$5="D",Deutsch!K39,English!K39) -> Wenn NEIN, bitte spezifizieren
A40: =IF($D$5="D",Deutsch!A40,English!A40) -> 13 | B40: =IF($D$5="D",Deutsch!B40,English!B40) -> Können alle notwendigen Komponenten / Rohmaterialien von bestehenden, freigegebenen Lieferanten beschafft werden? | H40: FALSE | I40: FALSE
A41: =IF($D$5="D",Deutsch!A41,English!A41) -> Qualitätsmanagement | H41: =IF($D$5="D",Deutsch!H41,English!H41) -> JA | I41: =IF($D$5="D",Deutsch!I41,English!I41) -> NEIN | J41: =IF($D$5="D",Deutsch!J41,English!J41) -> N/A | K41: =IF($D$5="D",Deutsch!K41,English!K41) -> Wenn NEIN oder N/A, bitte spezifizieren
A42: =IF($D$5="D",Deutsch!A42,English!A42) -> 14 | B42: =IF($D$5="D",Deutsch!B42,English!B42) -> Ist die Prozessfähigkeit im Herstellungsprozess von kritischen und wichtigen Merkmalen sichergestellt (Cm, Cmk / Pp, Ppk ≥ 1.67 Kurzzeit / Cp, Cpk ≥ 1.33) Langzeit? Sofern DPM oder PPM Grenzen im GQA oder in der QRS definiert sind: Sind die DPM oder PPM Ziele erreichbar? Bitte im PPAP Workbook den Reiter Special Characteristics List ausfüllen. | H42: FALSE | I42: FALSE | J42: FALSE
A43: =IF($D$5="D",Deutsch!A43,English!A43) -> 15 | B43: =IF($D$5="D",Deutsch!B43,English!B43) -> Sind für bestimmte Merkmale der Serie 100%ige Kontrollen geplant oder absehbar? Wenn JA, für welche Merkmale? | H43: FALSE | I43: FALSE
A44: =IF($D$5="D",Deutsch!A44,English!A44) -> 16 | B44: =IF($D$5="D",Deutsch!B44,English!B44) -> Gibt es ein Qualitätskonzept (präventive Qualitätsplanung) um die Anforderungen gemäss Spezifikation auch im Hinblick auf den Null-Fehler Ansatz zu gewährleisten (siehe auch QSV / GQA)? | H44: FALSE | I44: FALSE
A45: =IF($D$5="D",Deutsch!A45,English!A45) -> 17 | B45: =IF($D$5="D",Deutsch!B45,English!B45) -> Ist die Rückverfolgbarkeit des Produktes / Komponente sichergestellt? (Datums-Code, Datamatrix, Seriennummer,…) | H45: FALSE | I45: FALSE
A46: =IF($D$5="D",Deutsch!A46,English!A46) -> Produktion | H46: =IF($D$5="D",Deutsch!H46,English!H46) -> JA | I46: =IF($D$5="D",Deutsch!I46,English!I46) -> NEIN | J46: =IF($D$5="D",Deutsch!J46,English!J46) -> N/A | K46: =IF($D$5="D",Deutsch!K46,English!K46) -> Wenn NEIN oder N/A, bitte spezifizieren
A47: =IF($D$5="D",Deutsch!A47,English!A47) -> 18 | B47: =IF($D$5="D",Deutsch!B47,English!B47) -> Kann das Produkt / die Komponente...
A48: =IF($D$5="D",Deutsch!A48,English!A48) -> 18.1 | B48: =IF($D$5="D",Deutsch!B48,English!B48) -> - ohne zusätzliche Kosten für Maschinen, Anlagen, Werkzeuge und Prüfmittel hergestellt werden? Wenn "NEIN" muss dies im Angebot enthalten sein | H48: FALSE | I48: FALSE
A49: =IF($D$5="D",Deutsch!A49,English!A49) -> 18.2 | B49: =IF($D$5="D",Deutsch!B49,English!B49) -> - vermessen und bewertet werden (geeignete Messmitteln, welche die notwendige Genauigkeit besitzen)? | H49: FALSE | I49: FALSE
...

Sheet Deutsch
F1: Herstellbarkeitsbewertung
C3: Sprache: | E3: press F9 if language does not change
A6: Lieferant: | F6: Artikel Nummer
A8: Artikel Name: | F8: Artikel Rev. State:
A10: Projekt: | F10: Initiales Supplier Data (.zip):
F11: (komplett inkl. Datum/Zeit)
A13: Hinweis für den Lieferanten:
A14: Bitte betrachten Sie die folgenden Fragen nicht als allumfassend, um eine Herstellbarkeitsanalyse für Ihr Angebot durchzuführen. Benutzen Sie Ihr Fachwissen und früher gemachte Erfahrungen ebenso wie bereitgestellte Zeichnungen und / oder Spezifikationen (siehe Supplier Data Package), um zu überprüfen, ob alle gestellten Anforderungen eingehalten werden können. Alle mit "NEIN" beantworteten Punkte müssen mit Kommentaren bzgl. der Ablehnung und / oder Änderungsvorschlägen ergänzt werden, wie die Anforderungen trotzdem erfüllt werden könnten. Falls erforderlich, sind Unklarheiten bezüglich. technischen Spezifikationen, usw. mit dem entsprechenden Siemens SI B PRO Mitarbeiter zu klären. Siemens SI B PRO erwartet bereits in dieser frühen Phase, dass potentielle Lieferanten pro-aktiv Vorschläge unterbreiten, um das Bauteil/ Produkt mit verbesserter Qualität, zeitoptimal bzw. mit optimierten Stückkosten herzustellen. Die untenstehenden Informationen basieren auf den Anforderungen vom ISO 9001:2015 (Punkt 8.2.3) und müssen daher bei jeder Revision der Spezifikation neu bewertet und an Siemens abgegeben werden. Siemens-Ziel ist die Vermeidung auch von nicht gesetzlich beschränkten Stoffen der LoDS (Liste der zu deklarierenden Stoffe).
A15: Das Feasibility Commitment ist ein Dokument, das dem Lieferanten zusammen mit der Angebotsanfrage (RfQ) zugesandt wird. Ziel ist es, dem Lieferanten die Möglichkeit zu geben, Fragen zu den übermittelten Unterlagen zu stellen. Auf der Grundlage des Inhalts der vom Lieferanten zurückgesandten Technischen Prüfung entscheidet SQM (oder PE), ob ein Treffen zur technischen Prüfung mit dem Lieferanten und den technischen Funktionen erforderlich ist.
B17: Konzeptpunkte | H17: Resultate / Hinweise / Kommentare
A18: Anwendungstechnik und Design | H18: JA | I18: NEIN | J18: N/A | K18: Wenn NEIN oder N/A, bitte spezifizieren
A19: 1 | B19: Sind die PPAP - Anforderungen (Workbook) inkl. Supplier Data Package (.zip) bekannt gegeben worden, verstanden, akzeptiert und in das Angebot eingeflossen?
A20: 2 | B20: Wurden alle Anforderungen / Spezifikationen berücksichtigt? (z.B.: Qualitäts Sicherungs Vereinbarung (GQA oder QSV), Logistik - Kennzeichnungsanforderungen, QRS, Siemens Normen)
A21: 3 | B21: Ist die Herstellbarkeit des Produkts / der Komponente unter Berücksichtigung der voraussichtlichen Mengen sichergestellt für:
A22: 3.1 | B22: - alle geforderten Masse auf den Spezifikations-Dokumenten?
A23: 3.2 | B23: - alle geforderten Toleranzen? (inkl. aller Form- und Lagetoleranzen)
A24: 3.3 | B24: - alle kritischen und wichtigen Merkmale?
A25: 3.4 | B25: - alle weiteren Anforderungen nach Spezifikations-Dokumenten (Lieferspezifikationen, Produktanforderungen, Produkteigenschaften, Verpackung, Beschriftung, Zusatztext auf Zeichnungen, …)?
A26: 3.5 | B26: - die Deklarationen der Verwendung sowie der Nichtverwendung von eingeschränkten und deklarationspflichtigen Stoffen für alle Teile und Produkte gemäss der zum Zeitpunkt der Bestellung gültigen sogenannten "Liste deklarationspflichtiger Stoffe". Die Lieferanten müssen die Deklaration über BOMcheck vornehmen, spätestens zum Zeitpunkt der ersten Lieferung der Produkte.
B27: Link zum one pager BOMcheck Deklaration
B28: Link zur LoDS
A29: 4 | B29: Wird der Projektzeitplan (gemäss Anfrage) eingehalten und wird ein schlüssiger Planungsprozess für die Produktrealisierung einschliesslich der notwendigen Qualitätsplanung angewendet? (Bitte ab Zeile 65 ausfüllen)
A30: 5 | B30: Stellt das geplante Verpackungsdesign sicher, dass das Produkt / Komponente verpackt und transportiert werden kann, ohne dass Schäden beim Transport, Stapeln und Lagern entstehen?
A31: 6 | B31: Sind die zu erbringenden Leistungen, Termine und Funktionstests für die Software definiert?
A32: 7 | B32: Wird eine Designverifikation/ -validierungen durchgeführt?
A33: 8 | B33: Wird eine Risikobewertung für das Produkt / Komponente (z.B.: DFMEA) erstellt?
A34: Lieferanten Expertise | H34: JA | I34: NEIN | J34: N/A | K34: Wenn NEIN oder N/A, bitte spezifizieren
A35: 9 | B35: Werden oder wurden beim Lieferanten ähnliche Produkte / Komponenten gefertigt? Ist die Fertigung / Herstellung der geforderten Spezifikation ein etablierter Prozess?
A36: 10 | B36: Sehen Sie Möglichkeiten zur Kostensenkung und/oder Qualitätsverbesserung, z. B. bei Merkmalen, Materialien, Prozessen, Materialhandhabung?
A37: 11 | B37: Planen Sie Loops für die Werkzeugherstellung? Wenn Ja, wie lange dauert es insgesamt, bis die Produktion starten kann?
A38: 12 | B38: Planen Sie, einzelne Prozessschritte an Unterauftragnehmer zu vergeben? Wenn "JA", wie viele und welche?
A39: Beschaffung | H39: JA | I39: NEIN | K39: Wenn NEIN, bitte spezifizieren
A40: 13 | B40: Können alle notwendigen Komponenten / Rohmaterialien von bestehenden, freigegebenen Lieferanten beschafft werden?
A41: Qualitätsmanagement | H41: JA | I41: NEIN | J41: N/A | K41: Wenn NEIN oder N/A, bitte spezifizieren
A42: 14 | B42: Ist die Prozessfähigkeit im Herstellungsprozess von kritischen und wichtigen Merkmalen sichergestellt (Cm, Cmk / Pp, Ppk ≥ 1.67 Kurzzeit / Cp, Cpk ≥ 1.33) Langzeit? Sofern DPM oder PPM Grenzen im GQA oder in der QRS definiert sind: Sind die DPM oder PPM Ziele erreichbar? Bitte im PPAP Workbook den Reiter Special Characteristics List ausfüllen.
A43: 15 | B43: Sind für bestimmte Merkmale der Serie 100%ige Kontrollen geplant oder absehbar? Wenn JA, für welche Merkmale?
A44: 16 | B44: Gibt es ein Qualitätskonzept (präventive Qualitätsplanung) um die Anforderungen gemäss Spezifikation auch im Hinblick auf den Null-Fehler Ansatz zu gewährleisten (siehe auch QSV / GQA)?
A45: 17 | B45: Ist die Rückverfolgbarkeit des Produktes / Komponente sichergestellt? (Datums-Code, Datamatrix, Seriennummer,…)
A46: Produktion | H46: JA | I46: NEIN | J46: N/A | K46: Wenn NEIN oder N/A, bitte spezifizieren
A47: 18 | B47: Kann das Produkt / die Komponente...
...

Sheet English
F1: Feasibility Commitment
B3: Language D=Deutsch E=English | D3: d | E3: drücken Sie F9 wenn die Sprache nicht wechselt
A6: Supplier: | F6: Part Number:
A8: Part name: | F8: Part Rev. State:
A10: Project: | F10: Initial Supplier Data (.zip):
F11: (complete incl. date/time)
A13: Feasibility Considerations for Suppliers:
A14: Please perform the required feasibility evaluation for your quotation, including but not limited the following questions. Use your prior knowledge and experience as well as any drawings and / or specifications provided (see Supplier Data Package) as a basis for analyzing the ability to meet all specified requirements. All “NO” answers shall be supported with attached comments identifying concerns and / or proposed changes to meet the specified requirements. If required, all ambiguous technical requirements, specifications etc. shall be clarified with the respective SI B representative. Siemens SI B PRO expects in this early stage of the project from potential suppliers pro-active proposals to produce/ manufacture the component/ product with higher quality, shorter lead time or reduced costs. All the following requirements are based on ISO9001:2015 (Chapter 8.2.3) and need to be verified and sent to Siemens on each specification revision. Siemens target is the avoidance of LoDS (List of declarable substances) substance even if not legally restricted.
A15: The feasibility commitment is a document to be sent to supplier with the Request for Quotation (RfQ). The objective is to allow the supplier to ask questions on the documentation forwarded. Based on the content of the Technical Review returned by the supplier, SQM (or PE) decides if a Technical Review Meeting with supplier and technical functions is necessary.
B17: Items | H17: Results / Notes / Comments
A18: Application Engineering and Design | H18: YES | I18: NO | J18: N/A | K18: If "NO" or "N/A", please specify
A19: 1 | B19: PPAP requirements (Workbook) incl. SupplierData Package (.zip) received, understood, confirmed and included into quotation to Siemens.
A20: 2 | B20: Have all customer specific requirements / specifications been considered? i.e. GQA - General Quality Agreement; Logistic - labelling requirements; QRS, Siemens Norm
A21: 3 | B21: Is it feasible to supply the product/component considering the required volumes with regard to:
A22: 3.1 | B22: - all dimensions on the drawing?
A23: 3.2 | B23: - all given tolerances (incl. form, orientation and location tolerance)?
A24: 3.3 | B24: - all critical and important characteristics?
A25: 3.4 | B25: - all other requirements according to the specifications (delivery specifications, product requirements, product characteristics, packaging, labelling, additional text on drawings, …)?
A26: 3.5 | B26: - the declarations of use and non-use of restricted and declarable substances for all parts and products in accordance with the so-called “List of declarable substances” valid at the time of the order. Suppliers must make the declaration via BOMcheck, at the latest at the time of the first delivery of the products.
B27: Link to one pager BOMcheck declaration
B28: Link to LoDS
A29: 4 | B29: Will the project planning be met as stated and will a conclusive planning process for product / component realization, including necessary quality planning be applied? (fill out from row 65)
A30: 5 | B30: Does the planned packaging design ensure that the products / components can be packed and transported, so that no damages occur during shipping, stacking or handling?
A31: 6 | B31: Are the deliverables, dates, and functionality testing for Software defined?
A32: 7 | B32: Will a product / design verification / validation be carried out?
A33: 8 | B33: Will a risk assessment be made for the product/component (e.g.: DFMEA)?
A34: Supplier Expertise | H34: YES | I34: NO | J34: N/A | K34: If "NO" or "N/A", please specify
A35: 9 | B35: Are there or have there been similar products / components in production? Is the production of the requested specification an established process?
A36: 10 | B36: Can you see any cost reduction and/or quality improvement opportunities with e.g. features, materials, processes, material handling?
A37: 11 | B37: Do you plan iterations for de tool manufacturing? If Yes, how many iterations and total time do you plan for the tool to start production
A38: 12 | B38: Do you plan to assign individual process steps to subcontractors? If "YES", how many and which ones?
A39: Procurement | H39: YES | I39: NO | K39: If "NO", please specify
A40: 13 | B40: Can all necessary sub-components / raw materials be purchased from existing, approved suppliers?
A41: Quality Management | H41: YES | I41: NO | J41: N/A | K41: If "NO" or "N/A", please specify
A42: 14 | B42: Feasibility according to all required process capabilities ensured? Cm, Cmk / Pp, Ppk ≥ 1.67 short term / Cp, Cpk ≥ 1.33 long term If there are DPM or PPM targets given by GQA or QRS: Are the DPM or PPM rates achievable? Please fill out our PPAP Special Characteristics List in the PPAP Workbook
A43: 15 | B43: Are any 100% inspections planned or foreseeable for particular features in the series? If YES, for which features?
A44: 16 | B44: Is there a quality concept (prevention oriented quality planning) to realize the requirements based on the specifications also under consideration of the zero-defect approach (see also GQA or QAA)?
A45: 17 | B45: Is the traceability for the product / component given? (date code, data matrix, serial number, …)
A46: Manufacturing | H46: YES | I46: NO | J46: N/A | K46: If "NO" or "N/A", please specify
A47: 18 | B47: Can the product / the component...
...

Sheet Drawing or Design Assumption
A1: Insert Drawing and/or product design assumptions used to support the feasibility commitment event
A3: Zeichnungs- und/oder Produktentwurfsannahmen einfügen, die zur Unterstützung der Herstellbarkeitsbewertung verwendet werden

Sheet Notes and abbreviations
B2: =IF('Feasibility Commitment'!D5="D",Deutsch!A13,English!A13) -> Hinweis für den Lieferanten:
B3: =IF('Feasibility Commitment'!D5="D",Deutsch!A14,English!A14) -> Bitte betrachten Sie die folgenden Fragen nicht als allumfassend, um eine Herstellbarkeitsanalyse für Ihr Angebot durchzuführen. Benutzen Sie Ihr Fachwissen und früher gemachte Erfahrungen ebenso wie bereitgestellte Zeichnungen und / oder Spezifikationen (siehe Supplier Data Package), um zu überprüfen, ob alle gestellten Anforderungen eingehalten werden können. Alle mit "NEIN" beantworteten Punkte müssen mit Kommentaren bzgl. der Ablehnung und / oder Änderungsvorschlägen ergänzt werden, wie die Anforderungen trotzdem erfüllt werden könnten. Falls erforderlich, sind Unklarheiten bezüglich. technischen Spezifikationen, usw. mit dem entsprechenden Siemens SI B PRO Mitarbeiter zu klären. Siemens SI B PRO erwartet bereits in dieser frühen Phase, dass potentielle Lieferanten pro-aktiv Vorschläge unterbreiten, um das Bauteil/ Produkt mit verbesserter Qualität, zeitoptimal bzw. mit optimierten Stückkosten herzustellen. Die untenstehenden Informationen basieren auf den Anforderungen vom ISO 9001:2015 (Punkt 8.2.3) und müssen daher bei jeder Revision der Spezifikation neu bewertet und an Siemens abgegeben werden. Siemens-Ziel ist die Vermeidung auch von nicht gesetzlich beschränkten Stoffen der LoDS (Liste der zu deklarierenden Stoffe).
B5: =IF('Feasibility Commitment'!D5="D",Deutsch!A104,English!A105) -> Abkürzungsverzeichnis:
B6: =IF('Feasibility Commitment'!D5="D",Deutsch!A105,English!A106) -> Cm | C6: =IF('Feasibility Commitment'!D5="D",Deutsch!C105,English!C106) -> Maschinenfähigkeit | E6: =IF('Feasibility Commitment'!D5="D",Deutsch!H105,English!H106) -> PFMEA | F6: =IF('Feasibility Commitment'!D5="D",Deutsch!J105,English!J106) -> Prozess FMEA
B7: =IF('Feasibility Commitment'!D5="D",Deutsch!A106,English!A107) -> Cmk | C7: =IF('Feasibility Commitment'!D5="D",Deutsch!C106,English!C107) -> Maschinenfähigkeitsindex | E7: =IF('Feasibility Commitment'!D5="D",Deutsch!H106,English!H107) -> Pp | F7: =IF('Feasibility Commitment'!D5="D",Deutsch!J106,English!J107) -> Langzeit Prozess-Leistungsfähigkeit
B8: =IF('Feasibility Commitment'!D5="D",Deutsch!A107,English!A108) -> Cp | C8: =IF('Feasibility Commitment'!D5="D",Deutsch!C107,English!C108) -> Kurzzeit Prozessfähigkeit | E8: =IF('Feasibility Commitment'!D5="D",Deutsch!H107,English!H108) -> Ppk | F8: =IF('Feasibility Commitment'!D5="D",Deutsch!J107,English!J108) -> Langzeit Prozess-Leistungsfähigkeitsindex
B9: =IF('Feasibility Commitment'!D5="D",Deutsch!A108,English!A109) -> Cpk | C9: =IF('Feasibility Commitment'!D5="D",Deutsch!C108,English!C109) -> Kurzzeit Prozessfähigkeitsindex | E9: =IF('Feasibility Commitment'!D5="D",Deutsch!H108,English!H109) -> PPM | F9: =IF('Feasibility Commitment'!D5="D",Deutsch!J108,English!J109) -> Parts Per Million
B10: =IF('Feasibility Commitment'!D5="D",Deutsch!A109,English!A110) -> DFMEA | C10: =IF('Feasibility Commitment'!D5="D",Deutsch!C109,English!C110) -> Design FMEA (Fehlermöglichkeits- und Einflussanalyse) | E10: =IF('Feasibility Commitment'!D5="D",Deutsch!H109,English!H110) -> PPAP | F10: =IF('Feasibility Commitment'!D5="D",Deutsch!J109,English!J110) -> Production Part Approval Process
B11: =IF('Feasibility Commitment'!D5="D",Deutsch!A110,English!A111) -> DPM | C11: =IF('Feasibility Commitment'!D5="D",Deutsch!C110,English!C111) -> Defects Per Million | E11: =IF('Feasibility Commitment'!D5="D",Deutsch!H110,English!H111) -> Proc | F11: =IF('Feasibility Commitment'!D5="D",Deutsch!J110,English!J111) -> Procurement
B12: =IF('Feasibility Commitment'!D5="D",Deutsch!A111,English!A112) -> GQA | C12: =IF('Feasibility Commitment'!D5="D",Deutsch!C111,English!C112) -> General Quality Agreement | E12: =IF('Feasibility Commitment'!D5="D",Deutsch!H111,English!H112) -> QAA | F12: =IF('Feasibility Commitment'!D5="D",Deutsch!J111,English!J112) -> Quality Assurance Agreement
B13: =IF('Feasibility Commitment'!D5="D",Deutsch!A112,English!A113) -> LoDS | C13: =IF('Feasibility Commitment'!D5="D",Deutsch!C112,English!C113) -> List of Declarable Substances | E13: =IF('Feasibility Commitment'!D5="D",Deutsch!H112,English!H113) -> QRS | F13: =IF('Feasibility Commitment'!D5="D",Deutsch!J112,English!J113) -> Quality Requirements Specification
B14: =IF('Feasibility Commitment'!D5="D",Deutsch!A113,English!A114) -> LOG | C14: =IF('Feasibility Commitment'!D5="D",Deutsch!C113,English!C114) -> Logistik | E14: =IF('Feasibility Commitment'!D5="D",Deutsch!H113,English!H114) -> R&D | F14: =IF('Feasibility Commitment'!D5="D",Deutsch!J113,English!J114) -> Research & Development
B15: =IF('Feasibility Commitment'!D5="D",Deutsch!A114,English!A115) -> PE | C15: =IF('Feasibility Commitment'!D5="D",Deutsch!C114,English!C115) -> Procurement Engineer | E15: =IF('Feasibility Commitment'!D5="D",Deutsch!H114,English!H115) -> SI B PRO | F15: =IF('Feasibility Commitment'!D5="D",Deutsch!J114,English!J115) -> Smart Infrastructure Buildings Product
E16: =IF('Feasibility Commitment'!D5="D",Deutsch!H115,English!H116) -> SQE | F16: =IF('Feasibility Commitment'!D5="D",Deutsch!J115,English!J116) -> Supplier Quality Engineer
